BEGIN:VCALENDAR
VERSION:2.0
PRODID:-//Wise Texas Bee Club - ECPv6.15.18//NONSGML v1.0//EN
CALSCALE:GREGORIAN
METHOD:PUBLISH
X-ORIGINAL-URL:https://wisetexasbeeclub.com
X-WR-CALDESC:Events for Wise Texas Bee Club
REFRESH-INTERVAL;VALUE=DURATION:PT1H
X-Robots-Tag:noindex
X-PUBLISHED-TTL:PT1H
BEGIN:VTIMEZONE
TZID:America/Chicago
BEGIN:DAYLIGHT
TZOFFSETFROM:-0600
TZOFFSETTO:-0500
TZNAME:CDT
DTSTART:20200308T080000
END:DAYLIGHT
BEGIN:STANDARD
TZOFFSETFROM:-0500
TZOFFSETTO:-0600
TZNAME:CST
DTSTART:20201101T070000
END:STANDARD
BEGIN:DAYLIGHT
TZOFFSETFROM:-0600
TZOFFSETTO:-0500
TZNAME:CDT
DTSTART:20210314T080000
END:DAYLIGHT
BEGIN:STANDARD
TZOFFSETFROM:-0500
TZOFFSETTO:-0600
TZNAME:CST
DTSTART:20211107T070000
END:STANDARD
BEGIN:DAYLIGHT
TZOFFSETFROM:-0600
TZOFFSETTO:-0500
TZNAME:CDT
DTSTART:20220313T080000
END:DAYLIGHT
BEGIN:STANDARD
TZOFFSETFROM:-0500
TZOFFSETTO:-0600
TZNAME:CST
DTSTART:20221106T070000
END:STANDARD
END:VTIMEZONE
BEGIN:VEVENT
DTSTART;TZID=America/Chicago:20210220T100000
DTEND;TZID=America/Chicago:20210220T140000
DTSTAMP:20260423T190305
CREATED:20210113T030334Z
LAST-MODIFIED:20210222T012507Z
UID:2836-1613815200-1613829600@wisetexasbeeclub.com
SUMMARY:Hive Building Workshop - Cancelled Due to Weather - Will Reschedule - TBD
DESCRIPTION:
URL:https://wisetexasbeeclub.com/event/hive-building-workshop/
END:VEVENT
BEGIN:VEVENT
DTSTART;TZID=America/Chicago:20210204T183000
DTEND;TZID=America/Chicago:20210204T200000
DTSTAMP:20260423T190305
CREATED:20210108T130941Z
LAST-MODIFIED:20210113T031442Z
UID:2658-1612463400-1612468800@wisetexasbeeclub.com
SUMMARY:Bee Club Monthly Zoom Meeting w/ Guest Speaker
DESCRIPTION:
URL:https://wisetexasbeeclub.com/event/bee-club-monthly-meeting/
LOCATION:Zoom Meeting
ORGANIZER;CN="Lori Hatherley":MAILTO:info@wisetexasbeeclub.com
END:VEVENT
BEGIN:VEVENT
DTSTART;VALUE=DATE:20210112
DTEND;VALUE=DATE:20210223
DTSTAMP:20260423T190305
CREATED:20210113T031313Z
LAST-MODIFIED:20210113T031313Z
UID:2848-1610409600-1614038399@wisetexasbeeclub.com
SUMMARY:Accepting Youth Scholarship Applications!!
DESCRIPTION:
URL:https://wisetexasbeeclub.com/event/accepting-youth-scholarship-applications/
END:VEVENT
BEGIN:VEVENT
DTSTART;TZID=America/Chicago:20210107T183000
DTEND;TZID=America/Chicago:20210107T200000
DTSTAMP:20260423T190305
CREATED:20210106T054440Z
LAST-MODIFIED:20210108T130718Z
UID:2567-1610044200-1610049600@wisetexasbeeclub.com
SUMMARY:Bee Club Monthly Meeting
DESCRIPTION:
URL:https://wisetexasbeeclub.com/event/monthly-bee-meeting/
ORGANIZER;CN="Lori Hatherley":MAILTO:info@wisetexasbeeclub.com
END:VEVENT
BEGIN:VEVENT
DTSTART;VALUE=DATE:20210101
DTEND;VALUE=DATE:20210401
DTSTAMP:20260423T190305
CREATED:20210108T133600Z
LAST-MODIFIED:20210114T001024Z
UID:2686-1609459200-1617235199@wisetexasbeeclub.com
SUMMARY:2021 Memberships are due! Thank you for your support\, please log into Membership Levels!
DESCRIPTION:
URL:https://wisetexasbeeclub.com/event/please-log-in-memberships-are-due/
END:VEVENT
END:VCALENDAR