BEGIN:VCALENDAR
VERSION:2.0
PRODID:-//Wise Texas Bee Club - ECPv6.15.18//NONSGML v1.0//EN
CALSCALE:GREGORIAN
METHOD:PUBLISH
X-ORIGINAL-URL:https://wisetexasbeeclub.com
X-WR-CALDESC:Events for Wise Texas Bee Club
REFRESH-INTERVAL;VALUE=DURATION:PT1H
X-Robots-Tag:noindex
X-PUBLISHED-TTL:PT1H
BEGIN:VTIMEZONE
TZID:America/Chicago
BEGIN:DAYLIGHT
TZOFFSETFROM:-0600
TZOFFSETTO:-0500
TZNAME:CDT
DTSTART:20200308T080000
END:DAYLIGHT
BEGIN:STANDARD
TZOFFSETFROM:-0500
TZOFFSETTO:-0600
TZNAME:CST
DTSTART:20201101T070000
END:STANDARD
BEGIN:DAYLIGHT
TZOFFSETFROM:-0600
TZOFFSETTO:-0500
TZNAME:CDT
DTSTART:20210314T080000
END:DAYLIGHT
BEGIN:STANDARD
TZOFFSETFROM:-0500
TZOFFSETTO:-0600
TZNAME:CST
DTSTART:20211107T070000
END:STANDARD
BEGIN:DAYLIGHT
TZOFFSETFROM:-0600
TZOFFSETTO:-0500
TZNAME:CDT
DTSTART:20220313T080000
END:DAYLIGHT
BEGIN:STANDARD
TZOFFSETFROM:-0500
TZOFFSETTO:-0600
TZNAME:CST
DTSTART:20221106T070000
END:STANDARD
BEGIN:DAYLIGHT
TZOFFSETFROM:-0600
TZOFFSETTO:-0500
TZNAME:CDT
DTSTART:20230312T080000
END:DAYLIGHT
BEGIN:STANDARD
TZOFFSETFROM:-0500
TZOFFSETTO:-0600
TZNAME:CST
DTSTART:20231105T070000
END:STANDARD
BEGIN:DAYLIGHT
TZOFFSETFROM:-0600
TZOFFSETTO:-0500
TZNAME:CDT
DTSTART:20240310T080000
END:DAYLIGHT
BEGIN:STANDARD
TZOFFSETFROM:-0500
TZOFFSETTO:-0600
TZNAME:CST
DTSTART:20241103T070000
END:STANDARD
END:VTIMEZONE
BEGIN:VEVENT
DTSTART;TZID=America/Chicago:20231102T080000
DTEND;TZID=America/Chicago:20231102T170000
DTSTAMP:20260423T134912
CREATED:20230906T160042Z
LAST-MODIFIED:20230906T160042Z
UID:24209-1698912000-1698944400@wisetexasbeeclub.com
SUMMARY:November Meeting
DESCRIPTION:
URL:https://wisetexasbeeclub.com/event/november-meeting-2/
LOCATION:Decatur Conference Center\, 2010 US-380\, Decatur\, TX\, 76234\, United States
END:VEVENT
BEGIN:VEVENT
DTSTART;TZID=America/Chicago:20231005T080000
DTEND;TZID=America/Chicago:20231005T170000
DTSTAMP:20260423T134912
CREATED:20230906T155952Z
LAST-MODIFIED:20230906T155952Z
UID:24206-1696492800-1696525200@wisetexasbeeclub.com
SUMMARY:October Meeting
DESCRIPTION:
URL:https://wisetexasbeeclub.com/event/october-meeting/
LOCATION:Decatur Conference Center\, 2010 US-380\, Decatur\, TX\, 76234\, United States
END:VEVENT
BEGIN:VEVENT
DTSTART;TZID=America/Chicago:20230907T180000
DTEND;TZID=America/Chicago:20230907T190000
DTSTAMP:20260423T134912
CREATED:20230801T152751Z
LAST-MODIFIED:20230906T160137Z
UID:23885-1694109600-1694113200@wisetexasbeeclub.com
SUMMARY:September Meeting
DESCRIPTION:September Wise Texas Bee Club (501c3) – Wise & Surrounding Counties will be 9-7-23\nStart @6pm\nAnnouncements\nShort Club business ( if any)\nJoe Lewis to present about Bee removals and “Trapouts”\nJoe is a longtime beekeeper who never ceases to deliver great presentations based on his experiences and facts ; don’t miss him in his lively and humorous delivery.\nClose meeting at 7:30\nClear the building\nConverse outdoors after meeting please.
URL:https://wisetexasbeeclub.com/event/september-meeting-2/
LOCATION:Decatur Conference Center\, 2010 US-380\, Decatur\, TX\, 76234\, United States
END:VEVENT
BEGIN:VEVENT
DTSTART;TZID=America/Chicago:20230803T180000
DTEND;TZID=America/Chicago:20230803T190000
DTSTAMP:20260423T134912
CREATED:20230519T140858Z
LAST-MODIFIED:20230519T140858Z
UID:23305-1691085600-1691089200@wisetexasbeeclub.com
SUMMARY:August Meeting
DESCRIPTION:
URL:https://wisetexasbeeclub.com/event/august-meeting/
LOCATION:Decatur Conference Center\, 2010 US-380\, Decatur\, TX\, 76234\, United States
END:VEVENT
BEGIN:VEVENT
DTSTART;TZID=America/Chicago:20230706T060000
DTEND;TZID=America/Chicago:20230706T190000
DTSTAMP:20260423T134912
CREATED:20230519T140742Z
LAST-MODIFIED:20230519T140742Z
UID:23303-1688623200-1688670000@wisetexasbeeclub.com
SUMMARY:July Meeting
DESCRIPTION:
URL:https://wisetexasbeeclub.com/event/july-meeting/
LOCATION:Decatur Conference Center\, 2010 US-380\, Decatur\, TX\, 76234\, United States
END:VEVENT
BEGIN:VEVENT
DTSTART;TZID=America/Chicago:20230601T180000
DTEND;TZID=America/Chicago:20230601T190000
DTSTAMP:20260423T134912
CREATED:20230519T140604Z
LAST-MODIFIED:20230519T140604Z
UID:23300-1685642400-1685646000@wisetexasbeeclub.com
SUMMARY:June Meeting
DESCRIPTION:
URL:https://wisetexasbeeclub.com/event/june-meeting/
LOCATION:Decatur Conference Center\, 2010 US-380\, Decatur\, TX\, 76234\, United States
END:VEVENT
BEGIN:VEVENT
DTSTART;TZID=America/Chicago:20230520T090000
DTEND;TZID=America/Chicago:20230520T120000
DTSTAMP:20260423T134912
CREATED:20230413T032529Z
LAST-MODIFIED:20230520T012244Z
UID:22899-1684573200-1684584000@wisetexasbeeclub.com
SUMMARY:Beginning Beekeeping Workshop Part 2
DESCRIPTION:The workshop is full.
URL:https://wisetexasbeeclub.com/event/beginning-beekeeping-workshop-part-2/
LOCATION:1454 CR 4680\, Boyd\, TX 76023\, 1454 CR 4680\, Boyd\, TX\, 76023
END:VEVENT
BEGIN:VEVENT
DTSTART;TZID=America/Chicago:20230504T180000
DTEND;TZID=America/Chicago:20230504T190000
DTSTAMP:20260423T134912
CREATED:20230410T160019Z
LAST-MODIFIED:20230504T201005Z
UID:22851-1683223200-1683226800@wisetexasbeeclub.com
SUMMARY:May Meeting Canceled
DESCRIPTION:Due to a water main break in Decatur we are canceling our meeting tonight.
URL:https://wisetexasbeeclub.com/event/may-meeting/
LOCATION:Decatur Conference Center\, 2010 US-380\, Decatur\, TX\, 76234\, United States
END:VEVENT
BEGIN:VEVENT
DTSTART;TZID=America/Chicago:20230406T180000
DTEND;TZID=America/Chicago:20230406T190000
DTSTAMP:20260423T134912
CREATED:20230314T143636Z
LAST-MODIFIED:20230314T144157Z
UID:22583-1680804000-1680807600@wisetexasbeeclub.com
SUMMARY:April 6 Meeting
DESCRIPTION:
URL:https://wisetexasbeeclub.com/event/april-6-meeting/
LOCATION:Decatur Conference Center\, 2010 US-380\, Decatur\, TX\, 76234\, United States
END:VEVENT
BEGIN:VEVENT
DTSTART;TZID=America/Chicago:20230325T090000
DTEND;TZID=America/Chicago:20230325T110000
DTSTAMP:20260423T134912
CREATED:20230314T144040Z
LAST-MODIFIED:20230314T161750Z
UID:22588-1679734800-1679742000@wisetexasbeeclub.com
SUMMARY:Beginning Beekeeper Workshop
DESCRIPTION:WORKSHOP DETAILS: \nMarch 25\, 2023 \n9am – 11pm \nLOCATION: 1454 CR 4680\, Boyd\, TX 76023 \nCLUB MEMBER/FAMILY – $20 per family \nNON-CLUB MEMBER/FAMILY – $30 per family \n\n\n\n\n\n\n\n\n\n\n\n\nTOPICS COVERED: \n\nPersonal Protection Equipment (PPE)\nTools\nHive Inspection\nSmoker Care\nSugar Roll Mite Tes\n\n\n\n\n\n\n\n\n\n\n\n\n\nTHINGS TO BRING: \n\nBee suit for every person attending (required)\nSmoker
URL:https://wisetexasbeeclub.com/event/beginning-beekeeper-workshop/
LOCATION:TX
END:VEVENT
BEGIN:VEVENT
DTSTART;TZID=America/Chicago:20230309T180000
DTEND;TZID=America/Chicago:20230309T180000
DTSTAMP:20260423T134912
CREATED:20230201T022250Z
LAST-MODIFIED:20230309T170529Z
UID:22197-1678384800-1678384800@wisetexasbeeclub.com
SUMMARY:March Meeting
DESCRIPTION:
URL:https://wisetexasbeeclub.com/event/march-meeting/
LOCATION:Decatur Conference Center\, 2010 US-380\, Decatur\, TX\, 76234\, United States
END:VEVENT
BEGIN:VEVENT
DTSTART;TZID=America/Chicago:20230211T080000
DTEND;TZID=America/Chicago:20230211T170000
DTSTAMP:20260423T134912
CREATED:20230211T130557Z
LAST-MODIFIED:20230211T130557Z
UID:22310-1676102400-1676134800@wisetexasbeeclub.com
SUMMARY:April Meeting
DESCRIPTION:
URL:https://wisetexasbeeclub.com/event/april-meeting/
LOCATION:Decatur Conference Center\, 2010 US-380\, Decatur\, TX\, 76234\, United States
END:VEVENT
BEGIN:VEVENT
DTSTART;TZID=America/Chicago:20230202T180000
DTEND;TZID=America/Chicago:20230202T200000
DTSTAMP:20260423T134912
CREATED:20230113T211346Z
LAST-MODIFIED:20230201T020825Z
UID:21925-1675360800-1675368000@wisetexasbeeclub.com
SUMMARY:February Meeting - Canceled due to weather
DESCRIPTION:
URL:https://wisetexasbeeclub.com/event/february-meeting/
LOCATION:Decatur Conference Center\, 2010 US-380\, Decatur\, TX\, 76234\, United States
END:VEVENT
BEGIN:VEVENT
DTSTART;TZID=America/Chicago:20230105T060000
DTEND;TZID=America/Chicago:20230105T200000
DTSTAMP:20260423T134912
CREATED:20230113T211301Z
LAST-MODIFIED:20230113T211301Z
UID:21916-1672898400-1672948800@wisetexasbeeclub.com
SUMMARY:January Meeting
DESCRIPTION:
URL:https://wisetexasbeeclub.com/event/january-meeting/
LOCATION:Decatur Conference Center\, 2010 US-380\, Decatur\, TX\, 76234\, United States
END:VEVENT
BEGIN:VEVENT
DTSTART;TZID=America/Chicago:20221201T180000
DTEND;TZID=America/Chicago:20221201T200000
DTSTAMP:20260423T134912
CREATED:20221128T165714Z
LAST-MODIFIED:20221128T165714Z
UID:21397-1669917600-1669924800@wisetexasbeeclub.com
SUMMARY:December Meeting
DESCRIPTION:Next meeting on 12-1-22@6p. Location change to Bridgeport Library. We will no longer meet at Los Mirasoles.
URL:https://wisetexasbeeclub.com/event/december-meeting/
LOCATION:Decatur Conference Center\, 2010 US-380\, Decatur\, TX\, 76234\, United States
END:VEVENT
BEGIN:VEVENT
DTSTART;TZID=America/Chicago:20221103T180000
DTEND;TZID=America/Chicago:20221103T200000
DTSTAMP:20260423T134912
CREATED:20221102T180341Z
LAST-MODIFIED:20221102T180341Z
UID:21159-1667498400-1667505600@wisetexasbeeclub.com
SUMMARY:November Meeting
DESCRIPTION:Agenda\nA. Unfinished business\nB. DIscuss other meeting location options\nC. Bee talk
URL:https://wisetexasbeeclub.com/event/november-meeting/
LOCATION:Taqueria Los Mirasoles\, 1401 Chico Hwy\, Bridgeport\, TX\, 76428
END:VEVENT
BEGIN:VEVENT
DTSTART;TZID=America/Chicago:20220901T180000
DTEND;TZID=America/Chicago:20220901T190000
DTSTAMP:20260423T134912
CREATED:20220901T163407Z
LAST-MODIFIED:20220901T163407Z
UID:20663-1662055200-1662058800@wisetexasbeeclub.com
SUMMARY:September Meeting
DESCRIPTION:September meeting agenda for WTBC 9-1-22 @ Los Mirasoles Taqueria in Bridgeport Tx\n\n\n6:00 Welcome visitors\, short Q&A for visitors and newcomers only\n6:10 -Treasury report- Trsr.-S.Hatherly\n6:13- Discuss October elections / nominations\n6:20 What’s Blooming?\n6:25 Scholarshipper’s reports\n6:30 Wax Processing- James Johnson/Stephen Hatherley /group input\n6:40 Candy Boards/ Winter Preparations James Nielson\n7:00- Q&A for all
URL:https://wisetexasbeeclub.com/event/september-meeting/
LOCATION:Taqueria Los Mirasoles\, 1401 Chico Hwy\, Bridgeport\, TX\, 76428
END:VEVENT
BEGIN:VEVENT
DTSTART;TZID=America/Chicago:20220804T180000
DTEND;TZID=America/Chicago:20220804T200000
DTSTAMP:20260423T134912
CREATED:20220731T173003Z
LAST-MODIFIED:20220731T173003Z
UID:20326-1659636000-1659643200@wisetexasbeeclub.com
SUMMARY:August Club Meeting
DESCRIPTION:6 pm – Elect President\n6:05- welcome visitors\, short Q&A for visitors and newcomers only\n6:15 -Treasury report- Trsr.-S.Hatherly\n6:18- Bee camp report-Education officer-Tammy Rainey\n6:25- What’s Blooming- Ironweed- Donovan Johns\n6:30 -Scholarshipper’s reports\n6:50- presentation – Beekeepers \, Bees and heat – Donovan\n7:00- Q&A for all
URL:https://wisetexasbeeclub.com/event/august-club-meeting/
LOCATION:Taqueria Los Mirasoles\, 1401 Chico Hwy\, Bridgeport\, TX\, 76428
END:VEVENT
BEGIN:VEVENT
DTSTART;TZID=America/Chicago:20220707T180000
DTEND;TZID=America/Chicago:20220707T200000
DTSTAMP:20260423T134912
CREATED:20220613T181102Z
LAST-MODIFIED:20220618T001903Z
UID:19606-1657216800-1657224000@wisetexasbeeclub.com
SUMMARY:July Bee Club Meeting
DESCRIPTION:6 pm – nominate President candidates\n6:05- welcome visitors\, short Q&A for visitors and newcomers\n6:15 -Treasury report- Trsr.-S.Hatherly\n6:18 – Bee camp intro and report-Education officer-Tammy Rainey\n6:30- What’s Blooming- Sch. Recip. -Oaklee\n6:38- Scholarshipper’s reports\n6:50- presentation\n7:00- Q&A
URL:https://wisetexasbeeclub.com/event/july-bee-club-meeting/
LOCATION:Taqueria Los Mirasoles\, 1401 Chico Hwy\, Bridgeport\, TX\, 76428
END:VEVENT
BEGIN:VEVENT
DTSTART;TZID=America/Chicago:20220613T180000
DTEND;TZID=America/Chicago:20220613T200000
DTSTAMP:20260423T134912
CREATED:20220613T181158Z
LAST-MODIFIED:20220613T181158Z
UID:19608-1655143200-1655150400@wisetexasbeeclub.com
SUMMARY:August Bee Club Meeting
DESCRIPTION:
URL:https://wisetexasbeeclub.com/event/august-bee-club-meeting/
LOCATION:Taqueria Los Mirasoles\, 1401 Chico Hwy\, Bridgeport\, TX\, 76428
END:VEVENT
BEGIN:VEVENT
DTSTART;TZID=America/Chicago:20220604T080000
DTEND;TZID=America/Chicago:20220604T130000
DTSTAMP:20260423T134912
CREATED:20220513T172508Z
LAST-MODIFIED:20220513T172508Z
UID:18571-1654329600-1654347600@wisetexasbeeclub.com
SUMMARY:Summer Beekeeping Workshop
DESCRIPTION:CLUB MEMBERS – $20 per family \nNON-CLUB MEMBERS – $30 per family \n\n\n\n\n\n\n\n\n\n\n\n\nTOPICS COVERED: \n\nSmoker Lighting\nFeeding and Feeders\nVarroa Mite Testing Demonstration\nHoney Extracting\n\n\n\n\n\n\n\n\n\n\n\n\n\nTHINGS TO BRING: \n\nBee suit for every person attending (required)\nSmoker
URL:https://wisetexasbeeclub.com/event/summer-beekeeping-workshop/
LOCATION:1454 CR 4680\, Boyd\, TX 76023\, 1454 CR 4680\, Boyd\, TX\, 76023
END:VEVENT
BEGIN:VEVENT
DTSTART;TZID=America/Chicago:20220602T180000
DTEND;TZID=America/Chicago:20220602T200000
DTSTAMP:20260423T134912
CREATED:20220513T172112Z
LAST-MODIFIED:20220522T161848Z
UID:18568-1654192800-1654200000@wisetexasbeeclub.com
SUMMARY:June Club Meeting
DESCRIPTION:Meeting Agenda\n\n\n6 PM Workshop information for June 4\n6:05 Welcome New Beekeepers and Guests and Q&A\n6:20 Nominations for President\n6:30 Treasures Report\n6:35 Youth Scholarship updates\n6:45 Plant of the Month -Tammy Rainey\n6:52 Presentation- “Super Duper”- Steve Hatherly MBKR In progress.\n7:15 Q&A\n8: 00 Meeting closed Feel free to hang around and chat\nWe are having quite a crowd lately\, if you can come early for your meal\, enrollment for June 4 Workshop at 1454 cr 4680 from 8 am – 1pm can be achieved at WiseTexasbeeclub.com and I imagine we can take enrollments at the meeting.\nMeeting location Los Mirasoles Taqueria\, Bridgeport \,Tx.
URL:https://wisetexasbeeclub.com/event/june-club-meeting/
LOCATION:Taqueria Los Mirasoles\, 1401 Chico Hwy\, Bridgeport\, TX\, 76428
END:VEVENT
BEGIN:VEVENT
DTSTART;TZID=America/Chicago:20220505T180000
DTEND;TZID=America/Chicago:20220505T200000
DTSTAMP:20260423T134912
CREATED:20220418T034004Z
LAST-MODIFIED:20220418T034004Z
UID:17859-1651773600-1651780800@wisetexasbeeclub.com
SUMMARY:May Club Meeting
DESCRIPTION:6pm Welcome New Beekeepers and Guest and Q&A \n6:30  Treasures Report   \n6:35 Youth Scholarship updates  \n6:45 Queen Evaluation by D.V.Johns – MBKPR. \n7:15 Q&A \n8: 00 Meeting closed  Feel free to hang around and chat 
URL:https://wisetexasbeeclub.com/event/may-club-meeting/
LOCATION:Taqueria Los Mirasoles\, 1401 Chico Hwy\, Bridgeport\, TX\, 76428
END:VEVENT
BEGIN:VEVENT
DTSTART;TZID=America/Chicago:20220106T183000
DTEND;TZID=America/Chicago:20220106T200000
DTSTAMP:20260423T134912
CREATED:20210108T131948Z
LAST-MODIFIED:20210108T131948Z
UID:2682-1641493800-1641499200@wisetexasbeeclub.com
SUMMARY:Bee Club Monthly Meeting
DESCRIPTION:
URL:https://wisetexasbeeclub.com/event/bee-club-monthly-meeting-12/
LOCATION:TX
ORGANIZER;CN="Lori Hatherley":MAILTO:info@wisetexasbeeclub.com
END:VEVENT
BEGIN:VEVENT
DTSTART;TZID=America/Chicago:20211202T183000
DTEND;TZID=America/Chicago:20211202T200000
DTSTAMP:20260423T134912
CREATED:20210108T131851Z
LAST-MODIFIED:20210108T131851Z
UID:2680-1638469800-1638475200@wisetexasbeeclub.com
SUMMARY:Bee Club Monthly Meeting
DESCRIPTION:
URL:https://wisetexasbeeclub.com/event/bee-club-monthly-meeting-11/
LOCATION:TX
ORGANIZER;CN="Lori Hatherley":MAILTO:info@wisetexasbeeclub.com
END:VEVENT
BEGIN:VEVENT
DTSTART;TZID=America/Chicago:20211104T183000
DTEND;TZID=America/Chicago:20211104T200000
DTSTAMP:20260423T134912
CREATED:20210108T131810Z
LAST-MODIFIED:20210108T131810Z
UID:2678-1636050600-1636056000@wisetexasbeeclub.com
SUMMARY:Bee Club Monthly Meeting
DESCRIPTION:
URL:https://wisetexasbeeclub.com/event/bee-club-monthly-meeting-10/
LOCATION:TX
ORGANIZER;CN="Lori Hatherley":MAILTO:info@wisetexasbeeclub.com
END:VEVENT
BEGIN:VEVENT
DTSTART;TZID=America/Chicago:20211007T183000
DTEND;TZID=America/Chicago:20211007T200000
DTSTAMP:20260423T134912
CREATED:20210108T131734Z
LAST-MODIFIED:20210108T131734Z
UID:2676-1633631400-1633636800@wisetexasbeeclub.com
SUMMARY:Bee Club Monthly Meeting
DESCRIPTION:
URL:https://wisetexasbeeclub.com/event/bee-club-monthly-meeting-9/
LOCATION:TX
ORGANIZER;CN="Lori Hatherley":MAILTO:info@wisetexasbeeclub.com
END:VEVENT
BEGIN:VEVENT
DTSTART;TZID=America/Chicago:20210902T183000
DTEND;TZID=America/Chicago:20210902T200000
DTSTAMP:20260423T134912
CREATED:20210108T131650Z
LAST-MODIFIED:20210108T131650Z
UID:2674-1630607400-1630612800@wisetexasbeeclub.com
SUMMARY:Bee Club Monthly Meeting
DESCRIPTION:
URL:https://wisetexasbeeclub.com/event/bee-club-monthly-meeting-8/
LOCATION:TX
ORGANIZER;CN="Lori Hatherley":MAILTO:info@wisetexasbeeclub.com
END:VEVENT
BEGIN:VEVENT
DTSTART;TZID=America/Chicago:20210805T183000
DTEND;TZID=America/Chicago:20210805T200000
DTSTAMP:20260423T134912
CREATED:20210108T131610Z
LAST-MODIFIED:20210108T131610Z
UID:2672-1628188200-1628193600@wisetexasbeeclub.com
SUMMARY:Bee Club Monthly Meeting
DESCRIPTION:
URL:https://wisetexasbeeclub.com/event/bee-club-monthly-meeting-7/
LOCATION:TX
ORGANIZER;CN="Lori Hatherley":MAILTO:info@wisetexasbeeclub.com
END:VEVENT
BEGIN:VEVENT
DTSTART;TZID=America/Chicago:20210708T183000
DTEND;TZID=America/Chicago:20210708T200000
DTSTAMP:20260423T134912
CREATED:20210108T131530Z
LAST-MODIFIED:20210108T131530Z
UID:2670-1625769000-1625774400@wisetexasbeeclub.com
SUMMARY:Bee Club Monthly Meeting
DESCRIPTION:
URL:https://wisetexasbeeclub.com/event/bee-club-monthly-meeting-6/
LOCATION:TX
ORGANIZER;CN="Lori Hatherley":MAILTO:info@wisetexasbeeclub.com
END:VEVENT
END:VCALENDAR